{"text_format":"3","workbook":"xlsx","n_sheets":2,"sheets":["Berechnung","Übergangstabellen"],"not_rendered":{"defined_names":1},"read":"whole","date_system":"1900"}

{"sheet":"Berechnung","index":0,"n_rows":118,"n_cols":46,"rows_kept":118,"merged":[[1,13,1,15],[1,17,1,18],[1,19,1,20],[1,21,1,25],[3,22,3,27],[3,30,3,31],[4,4,4,6],[6,4,6,6],[7,4,7,14],[8,4,8,6],[9,4,10,14],[9,23,9,25],[11,4,12,15],[13,4,14,14],[15,12,15,13],[16,3,16,11],[17,3,17,11],[17,12,17,13],[18,2,18,11],[19,2,19,11],[19,12,19,13],[21,7,21,8],[21,12,21,13],[22,1,22,2],[22,3,24,10],[22,12,22,13],[23,12,23,13],[23,19,23,20],[23,21,23,22],[23,23,23,24],[23,25,23,26],[23,27,23,28],[24,12,24,13],[24,19,24,20],[24,21,24,22],[24,23,24,24],[24,25,24,26],[24,27,24,28],[25,10,25,11],[25,12,25,13],[25,19,25,20],[25,21,25,22],[25,23,25,24],[25,25,25,26],[25,27,25,28],[26,3,26,11],[26,19,26,20],[26,21,26,22],[26,23,26,24],[26,25,26,26],[26,27,26,28],[27,5,27,11],[27,12,27,13],[27,19,27,20],[27,21,27,22],[27,23,27,24],[27,25,27,26],[27,27,27,28],[28,19,28,20],[28,21,28,22],[28,23,28,24],[28,25,28,26],[28,27,28,28],[29,2,29,11],[29,12,29,13],[30,1,31,15],[30,37,32,37],[30,38,32,38],[30,39,32,39],[30,40,32,40],[30,41,32,41],[30,42,32,42],[30,43,32,43],[30,44,32,44],[30,45,32,45],[30,46,32,46],[32,8,32,9],[32,10,32,11],[32,12,32,13],[32,14,32,15],[33,1,33,7],[33,8,33,9],[33,10,33,11],[33,12,33,13],[33,14,33,15],[34,1,34,7],[34,8,34,9],[34,10,34,11],[34,12,34,13],[34,14,34,15],[34,20,34,22],[35,1,35,7],[35,8,35,9],[35,10,35,11],[35,12,35,13],[35,14,35,15],[36,1,36,7],[36,8,36,9],[36,10,36,11],[36,12,36,13],[36,14,36,15],[37,1,37,7],[37,8,37,9],[37,10,37,11],[37,12,37,13],[37,14,37,15],[38,1,38,7],[38,8,38,9],[38,10,38,11],[38,12,38,13],[38,14,38,15],[39,1,39,7],[39,8,39,9],[39,10,39,11],[39,12,39,13],[39,14,39,15],[40,1,40,7],[40,8,40,9],[40,10,40,11],[40,12,40,13],[40,14,40,15],[40,17,41,27],[41,1,41,7],[41,8,41,9],[41,10,41,11],[41,12,41,13],[41,14,41,15],[41,28,41,30],[42,1,42,3],[42,12,42,13],[42,14,42,15],[43,1,45,9],[43,10,43,11],[43,12,43,13],[43,14,43,15],[43,17,43,18],[43,24,43,26],[44,10,44,11],[44,12,44,13],[44,14,44,15],[44,17,44,18],[44,19,46,30],[47,1,50,15],[50,26,51,26],[50,27,51,27],[55,0,55,5],[55,12,55,14],[56,0,56,5],[56,19,57,28],[58,19,59,28],[60,19,62,29],[117,13,117,14]]}
[]
[null,"Versorgungsabschlag nach § 16 Abs. 2 NBeamtVG",{"$nulls":10},"Datum:",{"$f":"TODAY()","v":"2019-12-11"},{"$nulls":3},"Alter RustBeg",null,{"$f":"YEAR(E7)-YEAR(E5)-1+(IF(DATE(YEAR(E7),MONTH(E5),DAY(E5))-1<E7,1,0))","v":0},null,"MKM zu jung für Besonderheit",{"$nulls":4},{"$f":"IF(OR(AND(R5=1,R17=4,T2<65),AND(R5=3,R17=4,T2<63)),\"J\",0)","v":0},{"$nulls":3},"Zeiten für "]
[null,"bei vorzeitiger Versetzung in den Ruhestand",{"$nulls":15},"Zu jung für Besonderheit nach § 16 Abs. 2 Satz 5.",{"$nulls":11},"erfüllt","Mindestjahre nötig"]
[{"$nulls":22},"Mindestjahre gem. § 16 (2) S. 5 + §  90 (4)  Hs  1",{"$nulls":5},{"$f":"IF(R5=1,45,IF(R5=3,IF(E7<DATE(2024,1,1),35,40),0))","v":0},{"$f":"IF(AND(OR(AND(R5=1,T2>64),AND(R5=3,T2>62)),AC4>0,M45>(AC4-1)),\"J\",\"N\")","v":"N"},{"$f":"IF(OR(R10=1,R10=5),IF(AND(OR(AND(R5=1,T2>64),AND(R5=3,T2>62))),\"J\",\"N\"),\"N\")","v":"N"}]
[{"$nulls":3},"Geburtsdatum: ",{"$nulls":13},{"$f":"IF(E8=S6,1,IF(E8=S7,2,IF(E8=S8,3,0)))","v":0},"Grund Ruhestandsbeginn"]
[{"$nulls":17},1,"Versetzung in den Ruhestand auf Antrag ohne Schwerbehinderung"]
[{"$nulls":3},"Ruhestandsbeginn: ",{"$nulls":13},2,"Versetzung in den Ruhestand auf Antrag mit Schwerbehinderung"]
[{"$nulls":3},"Ruhestandsgrund: ",{"$nulls":13},3,"Versetzung in den Ruhestand wegen Dienstunfähigkeit (kein Dienstunfall)"]
[{"$nulls":3},"besond. Altersgrenze: ","keine"]
[{"$nulls":4},{"$f":"IF(AD4=\"J\",S21,0)","v":0},{"$nulls":12},{"$f":"IF(E9=S11,1,IF(E9=S12,2,IF(E9=S13,3,IF(E9=S14,4,IF(E9=S15,5,0)))))","v":1},"besondere Altersgrenze",{"$nulls":3},{"$f":"IF(R10=2,W12,IF(R10=3,W13,IF(R10=4,W14,IF(R10=5,W15,0))))","v":0},{"$f":"IF(R10>1,DATE(YEAR(E5)+W10,MONTH(E5),DAY(E5))-1,0)","v":"00:00:00"}]
[{"$nulls":17},1,"keine"]
[{"$nulls":4},{"$f":"IF(AND(OR(R10=2,R10=3,R10=4),R17=4),X18,IF(R5=0,0,IF(AND(R17=2,R5<>2),AB19,IF(AND(R17=3,R5<>2),AB20,IF(AND(R17=4,R5=2),AB21,IF(OR(R17=3,R17=4),X17,IF(E7<DATE(2011,12,1),AD17,0)))))))","v":0},{"$nulls":12},2,"60. Lebensjahr",{"$nulls":3},60,null,null,"Zeiten nach § 16 Abs. 2 Satz 5 oder § 90 Abs. 4 Hs. 1 NBeamtVG"]
[{"$nulls":17},3,"61. Lebensjahr",{"$nulls":3},61]
[{"$nulls":4},{"$f":"IF(AA2=\"J\",R3,0)","v":0},{"$nulls":12},4,"62. Lebensjahr",{"$nulls":3},62]
[{"$nulls":17},5,"68. Lebensjahr",{"$nulls":3},68]
[{"$nulls":11},{"$f":"IF(R10>1,\"besondere Altersgrenze\",IF(OR(R17=2,R17=5,R17=6),\"besondere Regelaltersgrenze gem. § 35 Abs. 3 NBG\",\"Regelaltersgrenze gem. § 35 Abs. 2 NBG\"))","v":"Regelaltersgrenze gem. § 35 Abs. 2 NBG"},{"$f":"IF(R5=0,0,IF(R10=1,Z25,DATE(YEAR(E5)+W10,MONTH(E5),DAY(E5)-1)))","v":"00:00:00"}]
[{"$nulls":3},"Der Versorgungsabschlag wird berechnet für den Zeitraum",{"$nulls":13},{"$f":"IF(E10=S18,1,IF(E10=S19,2,IF(E10=S20,3,IF(E10=S21,4,IF(E10=S22,5,IF(E10=S23,6,0))))))","v":0},"weitere Besonderheiten",{"$nulls":4},"Es wird kein Versorgungsabschlag erhoben!",{"$nulls":5},"Keine Anwendung bei Ruhestandsbeginn vor dem 01.12.2011!"]
[{"$nulls":3},"vom Beginn des Ruhestands",{"$nulls":8},{"$f":"E7","v":"00:00:00"},{"$nulls":4},1,"keine",{"$nulls":4},"Besonderheit nicht bei Altersgrenze unter 63"]
[null,null,{"$f":"IF(R5=1,T45,R41)","v":"bis Ende des Monats, in dem das 0. Lebensjahr vollendet wird "},{"$nulls":14},2,"vor dem 01.01.2010 Altersteilzeit bewilligt"]
[null,null,{"$f":"IF(R5=1,AF47,AF42)","v":""},{"$nulls":9},{"$f":"IF(R5=1,Y44,AC42)","v":"00:00:00"},{"$nulls":4},3,"bis 16.11.1950 geboren, spätestens 16.11.2000 schwerbehindert, am 01.01.2001 beamtet",{"$nulls":8},"Besonderheit nur bei Antrag+Schwerbehinderung"]
[{"$nulls":17},4,"Mindestzeit nach § 16 Abs. 2 Satz 5 oder § 90 Abs. 4 Hs. 1 NBeamtVG ist erfüllt (siehe Beschäftigungszeiten unten).",{"$nulls":8},"Besonderheit nicht bei Schwerbehinderung"]
[null," ",{"$nulls":9},{"$f":"IF(V36=\"J\",\"Vom\",0)","v":0},{"$f":"IF(V36=\"J\",M18,0)","v":"00:00:00"},{"$nulls":4},5,"vor dem 01.12.2011 Urlaub ohne Dienstbezüge nach § 64 Abs. 1 Nr. 2 NBG bewilligt"]
[{"$nulls":3},{"$f":"IF(V36=\"N\",\"Da der Ruhestandsbeginn nach dem Ende des maßgeblichen Berechnungszeitraumes liegt, wird \",0)","v":"Da der Ruhestandsbeginn nach dem Ende des maßgeblichen Berechnungszeitraumes liegt, wird "},{"$nulls":7},{"$f":"IF(V36=\"J\",\"bis\",0)","v":0},{"$f":"IF(V36=\"J\",M20,0)","v":"00:00:00"},{"$nulls":4},6,"Urlaub nach § 80d Abs. 1 Nr. 2 NBG Fass. 31.03.2009 bewilligt"]
[{"$nulls":11},{"$f":"IF(V36=\"J\",\"sind\",0)","v":0},{"$f":"IF(V36=\"J\",IF(AP43>0,AP43,\"0\"),0)","v":0},null,{"$f":"IF(V36=\"J\",\"Jahre\",0)","v":0},null,null,"Tag","Monat","Monat bereinigt",null,"Jahre zusätzlich",null,"Jahre gesamt",null,"Datum gesamt",null,"Abschlagsende"]
[{"$nulls":11},{"$f":"IF(V36=\"J\",\"und\",0)","v":0},{"$f":"IF(V36=\"J\",IF(AT43>0,AT43,\"0\"),0)","v":0},null,{"$f":"IF(V36=\"J\",\"Tage,\",0)","v":0},null,null,{"$f":"DAY(E5)","v":0},{"$f":"MONTH(E5)+IF(OR(R17=2,R17=5,R17=6),0,VLOOKUP(E5,Übergangstabellen!A3:B21,2))","v":{"$error":"#N/A"}},{"$f":"IF(S25>24,S25-24,IF(S25>12,S25-12,S25))","v":{"$error":"#N/A"}},null,{"$f":"IF(S25>24,2,IF(S25>12,1,0))","v":{"$error":"#N/A"}},null,{"$f":"YEAR(E5)+IF(OR(R17=6,R17=5,R17=2),0,V25)+65","v":{"$error":"#N/A"}},null,{"$f":"IF(DAY(DATE(X25,T25,R25)-1)+1=DAY(E5),DATE(X25,T25,R25)-1,EOMONTH(DATE(X25,T25,R25)-3,0))","v":{"$error":"#N/A"}},null,{"$f":"IF(AND(R10>1,R10<5),EOMONTH(M16,0),EOMONTH(Z25,0))","v":{"$error":"#N/A"}},null,"Antrag (Datum-gesamt = Regelaltersgrenze)"]
[{"$nulls":3},{"$f":"IF(V36=\"N\",\"kein Versorgungsabschlag \",0)","v":"kein Versorgungsabschlag "},{"$nulls":4},{"$f":"IF(V36=\"N\",\"erhoben. \",0)","v":"erhoben. "},null,{"$f":"IF(V36=\"J\",\"umgerechnet\",0)","v":{"v":0,"d":"0.00"}},null,{"$f":"IF(V36=\"J\",ROUND(M25/365,2)+M24,0)","v":{"v":0,"d":"0.00"}},null,{"$f":"IF(V36=\"J\",\"Jahre. *\",0)","v":0},null,null,{"$f":"DAY(E5)","v":0},{"$f":"MONTH(E5)+VLOOKUP(E5,Übergangstabellen!D3:E21,2)","v":{"$error":"#N/A"}},{"$f":"IF(S26>24,S26-24,IF(S26>12,S26-12,S26))","v":{"$error":"#N/A"}},null,{"$f":"IF(S26>24,2,IF(S26>12,1,0))","v":{"$error":"#N/A"}},null,{"$f":"YEAR(E5)+V26+63","v":{"$error":"#N/A"}},null,{"$f":"IF(R17=2,DATE(YEAR(E5)+63,MONTH(E5),DAY(E5))-1,IF(DAY(DATE(X26,T26,R26)-1)=DAY(E5)-1,DATE(X26,T26,R26)-1,EOMONTH(DATE(X26,T26,R26)-3,0)))","v":{"$error":"#N/A"}},null,{"$f":"EOMONTH(Z26,0)","v":{"$error":"#N/A"}},null,"Schwerbehindert ggf. inkl. Besonderheit 2"]
[{"$nulls":3},{"$f":"IF(V36=\"J\",\"Der Versorgungsabschlag beträgt \"&M26&\" Jahre\",0)","v":0},{"$nulls":13},{"$f":"IF(AND(R5=1,YEAR(E5)<1950,R10<>4,R17=1),DAY(E5),0)","v":0},{"$f":"IF(R27>0,MONTH(E5)+VLOOKUP(E5,Übergangstabellen!A26:B29,2),)","v":0},{"$f":"IF(S27>24,S27-24,IF(S27>12,S27-12,S27))","v":0},null,{"$f":"IF(S27>24,2,IF(S27>12,1,0))","v":0},null,{"$f":"IF(R27>0,YEAR(E5)+V27+65,0)","v":0},null,{"$f":"IF(R27>0,IF(E5>DATE(1949,2,28),Z25,IF(DAY(DATE(X27,T27,R27)-1)+1=DAY(E5),DATE(X27,T27,R27)-1,EOMONTH(DATE(X27,T27,R27)-3,0))),0)","v":"00:00:00"},null,{"$f":"IF(R27>0,EOMONTH(Z27,0),0)","v":"00:00:00"},null,"Antrag ohne SchwBeh vor 1950 geboren"]
[{"$nulls":5},{"$f":"IF(V36=\"J\",\"multipliziert mit 3,6 Prozent pro Jahr ergibt:\",0)","v":0},{"$nulls":6},{"$f":"IF(V36=\"J\",ROUND(M26*3.6,2),0)","v":{"v":0,"d":"0.00"}},null,{"$f":"IF(V36=\"J\",\"Prozent\",0)","v":0},null,null,{"$f":"DAY(E5)","v":0},{"$f":"IF(E7>0,MONTH(E5)+VLOOKUP(E7,Übergangstabellen!D26:E44,2),0)","v":0},{"$f":"IF(S28>24,S28-24,IF(S28>12,S28-12,S28))","v":0},null,{"$f":"IF(S28>24,2,IF(S28>12,1,0))","v":0},null,{"$f":"YEAR(E5)+V28+63","v":1963},null,{"$f":"IF(DAY(DATE(X28,T28,R28)-1)+1=DAY(E5),DATE(X28,T28,R28)-1,EOMONTH(DATE(X28,T28,R28)-3,0))","v":"1962-11-30"},null,{"$f":"EOMONTH(Z28,0)","v":"1962-11-30"},null,"Dienstunfähigkeit"]
[]
[null,null,{"$f":"IF(AND(M28>10.8,R5=3),\"Bei Dienstunfähigkeit beträgt der Versorgungsabschlag höchstens\",0)","v":0},{"$nulls":9},{"$f":"IF(C30=0,0,10.8)","v":{"v":0,"d":"0.00"}},null,{"$f":"IF(C30=0,0,\"Prozent\")","v":0},{"$nulls":8},"Fall",{"$f":"IF(AND(R5=2,OR(R10=2,R10=3,R10=4)),3,IF(AND(R5=2,R17=2),2,IF(R5=2,1,IF(AND(R5=1,R27>0),6,IF(AND(R5=1,R10=5),5,IF(R5=1,4,IF(AND(R5=3,R10>1,R10<5),8,IF(R5=3,7,0))))))))","v":0},{"$nulls":3},"AbschlEnde","RGL"]
[null,{"$f":"IF(AE4=\"J\",T57,T59)","v":"Die Voraussetzungen für das Entfallen des Versorgungszuschlags (und damit für die Prüfung einer Mindestbeschäftigungszeit) liegen nicht vor.  Die folgende Tabelle ist nicht zu füllen."},{"$nulls":15},"bis Ende des Monats, in dem das ",{"$nulls":5},1,"schwerbeh",null,"normal",null,{"$f":"AB26","v":{"$error":"#N/A"}},"(§ 16 Abs. 2 S. 1 Nr. 1 i.V.m. § 90 Abs. 2 NBeamtVG).",{"$nulls":7},"Ganzjahre zwischen den Daten","Tage AnfJahr bis 31.12. ggf. inkl. Schalttag","Ganzjahre, bereinigt um Tagesdaten","Tage 1.1. bis Ende ggf. inkl. Schalttag","Jahre Ergebnis","Tage vorläufig","Schalttags-bereinigung Endjahr","Schalttags-bereinigung Anfangsjahr","Tage Ergebnis"]
[{"$nulls":17},". Lebensjahr ",{"$nulls":5},2,"schwerbeh",null,"1.1.10 ATZ",null,{"$f":"EOMONTH(DATE(YEAR(E5)+63,MONTH(E5),DAY(E5)-1),0)","v":"1962-12-31"},"(§ 16 Abs. 2 S. 1 Nr. 1 i.V.m. § 90 Abs. 2 S. 2 NBeamtVG)."]
[null,{"$f":"IF(AE4=\"J\",\"Art der Tätigkeit\",0)","v":0},{"$nulls":6},{"$f":"IF(AE4=\"J\",\"vom\",0)","v":0},null,{"$f":"IF(AE4=\"J\",\"bis\",0)","v":0},null,{"$f":"IF(AE4=\"J\",\"Jahre\",0)","v":0},null,{"$f":"IF(AE4=\"J\",\"Tage *\",0)","v":0},null,null,"zuzüglich ",{"$nulls":5},3,"schwerbeh",null,"frühere AltGrz",null,{"$f":"EOMONTH(DATE(YEAR(E5)+W10,MONTH(E5),DAY(E5))-1,0)","v":{"$error":"#NUM!"}},"(§ 16 Abs. 2 S. 1 Nr. 1 und S. 3 NBeamtVG)."]
[{"$nulls":12},{"$f":"AP34","v":0},null,{"$f":"AT34","v":0},null,null," Monaten ",{"$nulls":5},4,"Antrag",null,"normal",null,{"$f":"AB25","v":{"$error":"#N/A"}},"(§ 16 Abs. 2 S. 1 Nr. 2 NBeamtVG).",{"$nulls":7},{"$f":"YEAR(K34)-YEAR(I34)","v":0},{"$f":"DATE(YEAR(I34),12,31)-I34+1","v":367},{"$f":"IF(OR(K34+1=DATE(YEAR(K34),MONTH(I34),DAY(I34)),I34<DATE(YEAR(I34),MONTH(K34),DAY(K34))),AL34-1,AL34)-IF(AM34+AO34<365,1,0)","v":0},{"$f":"K34-DATE(YEAR(K34),1,1)+1","v":0},{"$f":"IF(AM34+AO34>364,AL34,AL34-1)","v":0},{"$f":"IF(AM34+AO34>364,(AM34+AO34)-365,AM34+AO34)","v":2},{"$f":"IF(AND(YEAR(K34)/4=ROUNDDOWN(YEAR(K34)/4,0),K34>DATE(YEAR(K34),2,28)),-1,0)","v":0},{"$f":"IF(AND(YEAR(I34)/4=ROUNDDOWN(YEAR(I34)/4,0),I34<DATE(YEAR(I34),3,1)),-1,0)","v":-1},{"$f":"IF(I34>0,AQ34+AR34+AS34,0)","v":0}]
[{"$nulls":12},{"$f":"AP35","v":0},null,{"$f":"AT35","v":0},null,null,"vollendet wird ",null,null,"%Berechng durchführn",null,null,5,"Antrag",null,"spät bes AltGrz",null,{"$f":"AC34","v":{"$error":"#N/A"}},"(§ 16 Abs. 2 S. 1 Nr. 2 und S. 4 NBeamtVG).",{"$nulls":7},{"$f":"YEAR(K35)-YEAR(I35)","v":0},{"$f":"DATE(YEAR(I35),12,31)-I35+1","v":367},{"$f":"IF(OR(K35+1=DATE(YEAR(K35),MONTH(I35),DAY(I35)),I35<DATE(YEAR(I35),MONTH(K35),DAY(K35))),AL35-1,AL35)-IF(AM35+AO35<365,1,0)","v":0},{"$f":"K35-DATE(YEAR(K35),1,1)+1","v":0},{"$f":"IF(AM35+AO35>364,AL35,AL35-1)","v":0},{"$f":"IF(AM35+AO35>364,(AM35+AO35)-365,AM35+AO35)","v":2},{"$f":"IF(AND(YEAR(K35)/4=ROUNDDOWN(YEAR(K35)/4,0),K35>DATE(YEAR(K35),2,28)),-1,0)","v":0},{"$f":"IF(AND(YEAR(I35)/4=ROUNDDOWN(YEAR(I35)/4,0),I35<DATE(YEAR(I35),3,1)),-1,0)","v":-1},{"$f":"IF(I35>0,AQ35+AR35+AS35,0)","v":0}]
[{"$nulls":12},0,null,0,{"$nulls":6},{"$f":"IF(E12=X17,\"A\",IF(M20>M18,\"J\",\"N\"))","v":"N"},null,6,"Antrag",null,"vor 1950 gebor",null,{"$f":"AB27","v":0},"(§ 16 Abs. 2 S. 1 Nr. 2 i.V.m. § 90 Abs. 3 NBeamtVG).",{"$nulls":7},0,367,0,0,0,2,0,-1,0]
[{"$nulls":12},0,null,0,null,null,"Lebjahr","Monate",{"$nulls":4},7,"dienstunfä.",null,"normal",null,{"$f":"AB28","v":22980},"(§ 16 Abs. 2 S. 1 Nr. 3 i.V.m. § 90 Abs. 4 NBeamtVG).",{"$nulls":7},0,367,0,0,0,2,0,-1,0]
[{"$nulls":12},0,null,0,null,null,{"$f":"IF(OR(R5=3,R5=2,R17=2),63,0)","v":0},{"$f":"IF(AND(R17=2,Y30<>7),0,IF(R5=3,VLOOKUP(E7,Übergangstabellen!D26:E44,2),IF(R5=2,VLOOKUP(E5,Übergangstabellen!D3:E21,2),0)))","v":0},"direkt",{"$nulls":3},8,"dienstunfä.",null,"frühere AltGrz",null,{"$f":"IF(AND(R10>1,R10<5),AC33,0)","v":0},"(§ 16 Abs. 2 S. 1 Nr. 3 und S. 3 NBeamtVG).",{"$nulls":7},0,367,0,0,0,2,0,-1,0]
[{"$nulls":12},0,null,0,null,null,{"$f":"IF(S38>23,R38+2,IF(S38>11,R38+1,R38))","v":0},{"$f":"IF(S38>23,S38-24,IF(S38>11,S38-12,S38))","v":0},"umgerechnet",{"$nulls":12},"keine",{"$nulls":4},0,367,0,0,0,2,0,-1,0]
[{"$nulls":12},0,null,0,null,null,"schwerbeh oder dienstunf",{"$nulls":14},"siehe Seite 2 ",{"$nulls":4},0,367,0,0,0,2,0,-1,0]
[{"$nulls":12},0,null,0,null,null,{"$f":"R31&IF(OR(Y30=8,Y30=3),W10,R39)&R32&IF(AND(Y30<>3,Y30<>8,S39>0),R33&S39&R34,\"\")&R35","v":"bis Ende des Monats, in dem das 0. Lebensjahr vollendet wird "},{"$nulls":19},0,367,0,0,0,2,0,-1,0]
[{"$nulls":12},0,null,0,{"$nulls":13},{"$f":"IF(R5=1,0,IF(Y30=1,AC31,IF(Y30=2,AC32,IF(Y30=3,AC33,IF(Y30=7,AC37,IF(Y30=8,AC38,0))))))","v":0},null,null,{"$f":"IF(Y30=1,AD31,IF(Y30=2,AD32,IF(Y30=3,AD33,IF(Y30=7,AD37,IF(Y30=8,AD38,\"\")))))","v":""},{"$nulls":5},0,367,0,0,0,2,0,-1,0]
[{"$nulls":36},"Abschlagszeitraum",{"$f":"YEAR(M23)-YEAR(M22)","v":0},{"$f":"DATE(YEAR(M22),12,31)-M22+1","v":367},{"$f":"IF(OR(M23+1=DATE(YEAR(M23),MONTH(M22),DAY(M22)),M22<DATE(YEAR(M22),MONTH(M23),DAY(M23))),AL43-1,AL43)-IF(AM43+AO43<365,1,0)","v":0},{"$f":"M23-DATE(YEAR(M23),1,1)+1","v":0},0,2,{"$f":"IF(AND(YEAR(M23)/4=ROUNDDOWN(YEAR(M23)/4,0),M23>DATE(YEAR(M23),2,28)),-1,0)","v":0},{"$f":"IF(AND(YEAR(M22)/4=ROUNDDOWN(YEAR(M22)/4,0),M22<DATE(YEAR(M22),3,1)),-1,0)","v":-1},{"$f":"IF(AND(V36=\"J\",M22>0),AQ43+AR43+AS43,0)","v":0}]
[null,{"$f":"IF(OR(M28>0,M45+O45>0),\"* Ggf. sind noch Schalttage hinzuzurechen, das kann aber nur bei der endgültigen Berechnung durch das NLBV oder eine andere Behörde erfolgen.\",0)","v":0},{"$nulls":8},{"$f":"IF(M44+O44>0,\"Summe:\",0)","v":0},null,{"$f":"SUM(M34:N42)","v":0},null,{"$f":"SUM(O34:P42)","v":0},null,null,"Monate Fall 6",null,"Antrag ohne schwerbehindg",{"$nulls":4},{"$f":"IF(Y30=4,AC34,IF(Y30=5,AC35,IF(Y30=6,AC36,0)))","v":0}]
[{"$nulls":10},{"$f":"IF(M45+O45>0,\"Endsumme:\",0)","v":0},null,{"$f":"INT(O44/365)+M44","v":0},null,{"$f":"MOD(O44,365)","v":0},null,null,{"$f":"VLOOKUP(E5,Übergangstabellen!A26:B29,2)","v":{"$error":"#N/A"}},null,{"$f":"IF(Y30=4,R48,IF(Y30=5,R49,IF(Y30=6,R50,0)))","v":0}]
[]
[{"$nulls":31},{"$f":"IF(Y30=4,AD34,IF(Y30=5,AD35,IF(Y30=6,AD36,0)))","v":0}]
[null,{"$f":"IF(AE4=\"J\",T61,0)","v":0},{"$nulls":15},{"$f":"\"bis Ende des Monats, in dem die \"&L16&\" (siehe oben) erreicht wird \"","v":"bis Ende des Monats, in dem die Regelaltersgrenze gem. § 35 Abs. 2 NBG (siehe oben) erreicht wird "}]
[{"$nulls":17},{"$f":"\"bis Ende des Monats, in dem die Regel-Altersgrenze \"&IF(DAY(Z25)<10,\"0\",\"\")&DAY(Z25)&\".\"&IF(MONTH(Z25)<10,\"0\",\"\")&MONTH(Z25)&\".\"&YEAR(Z25)&\" erreicht wird, da die besondere Altersgrenze diese übersteigt \"","v":{"$error":"#N/A"}}]
[{"$nulls":17},{"$f":"\"bis Ende des Monats, in dem das 65. Lebensjahr \"&IF(R45>0,\"zuzüglich \"&R45&\" Monaten \",\"\")&\"vollendet wird \"","v":{"$error":"#N/A"}}]
[{"$nulls":26},"Jahre","Tage"]
[]
[null,"Die verwendeten Daten wurden nicht behördlich geprüft. Das Ergebnis der Berechnung ist",{"$nulls":23},"Ganzjahre zwischen den Daten",{"$f":"YEAR(M20)-YEAR(M18)","v":0},{"$f":"DATE(YEAR(M18),12,31)-M18+1","v":367},"Tage RustBeg bis 31.12. ggf. inkl. Schalttag"]
[null,"daher unverbindlich. Eine endgültige Festsetzung des Versorgungsabschlags erfolgt erst",{"$nulls":23},"Ganzjahre, bereinigt um Tagesdaten",{"$f":"IF(OR(M20+1=DATE(YEAR(M20),MONTH(M18),DAY(M18)),M18<DATE(YEAR(M18),MONTH(M20),DAY(M20))),AA53-1,AA53)-IF(AB53+AB54<365,1,0)","v":0},{"$f":"M20-DATE(YEAR(M20),1,1)+1","v":0},"Tage 1.1. bis Ende ggf. inkl. Schalttag"]
[null,"bei Ruhestandsbeginn durch das NLBV (sofern dieses für die Versorgungszahlung zuständig ist)."]
[]
[{"$nulls":19},{"$f":"\"Falls Sie evtl. mindestens \"&AC4& \" Jahre an ruhegehaltfähigen Dienstzeiten sowie an Zeiten in der Rentenversicherung ** haben (hier zu errechnen), entfällt der Versorgungsabschlag.\"","v":"Falls Sie evtl. mindestens 0 Jahre an ruhegehaltfähigen Dienstzeiten sowie an Zeiten in der Rentenversicherung ** haben (hier zu errechnen), entfällt der Versorgungsabschlag."}]
[]
[{"$nulls":19},"Die Voraussetzungen für das Entfallen des Versorgungszuschlags (und damit für die Prüfung einer Mindestbeschäftigungszeit) liegen nicht vor.  Die folgende Tabelle ist nicht zu füllen."]
[]
[{"$nulls":19},"** Berücksichtigungsfähig sind ruhegehaltfähige Dienstzeiten als Beamter, Soldat oder Richter; außerdem als Angestellter, sofern diese Tätigkeit zur Ernennung geführt hat. Ebenfalls mitgerechnet werden Pflichtbeitragszeiten in der gesetzlichen Rentenversicherung und Zeiten der Kindererziehung bis zum 10. Lebensjahr des Kindes. Teilzeitbeschäftigungen werden voll mitgerechnet."]
[{"$nulls":37},{"$f":"YEAR(K62)-YEAR(I62)","v":0},{"$f":"DATE(YEAR(I62),12,31)-I62+1","v":367},{"$f":"IF(OR(K62+1=DATE(YEAR(K62),MONTH(I62),DAY(I62)),I62<DATE(YEAR(I62),MONTH(K62),DAY(K62))),AL62-1,AL62)-IF(AM62+AO62<365,1,0)","v":0},{"$f":"K62-DATE(YEAR(K62),1,1)+1","v":0},{"$f":"IF(AM62+AO62>364,AL62,AL62-1)","v":0},{"$f":"IF(AM62+AO62>364,(AM62+AO62)-365,AM62+AO62)","v":2},{"$f":"IF(AND(YEAR(K62)/4=ROUNDDOWN(YEAR(K62)/4,0),K62>DATE(YEAR(K62),2,28)),-1,0)","v":0},{"$f":"IF(AND(YEAR(I62)/4=ROUNDDOWN(YEAR(I62)/4,0),I62<DATE(YEAR(I62),3,1)),-1,0)","v":-1},{"$f":"IF(I62>0,AQ62+AR62+AS62,0)","v":0}]
[{"$nulls":37},{"$f":"YEAR(K63)-YEAR(I63)","v":0},{"$f":"DATE(YEAR(I63),12,31)-I63+1","v":367},{"$f":"IF(OR(K63+1=DATE(YEAR(K63),MONTH(I63),DAY(I63)),I63<DATE(YEAR(I63),MONTH(K63),DAY(K63))),AL63-1,AL63)-IF(AM63+AO63<365,1,0)","v":0},{"$f":"K63-DATE(YEAR(K63),1,1)+1","v":0},{"$f":"IF(AM63+AO63>364,AL63,AL63-1)","v":0},{"$f":"IF(AM63+AO63>364,(AM63+AO63)-365,AM63+AO63)","v":2},{"$f":"IF(AND(YEAR(K63)/4=ROUNDDOWN(YEAR(K63)/4,0),K63>DATE(YEAR(K63),2,28)),-1,0)","v":0},{"$f":"IF(AND(YEAR(I63)/4=ROUNDDOWN(YEAR(I63)/4,0),I63<DATE(YEAR(I63),3,1)),-1,0)","v":-1},{"$f":"IF(I63>0,AQ63+AR63+AS63,0)","v":0}]
[{"$nulls":37},0,367,0,0,0,2,0,-1,0]
[{"$nulls":37},0,367,0,0,0,2,0,-1,0]
[{"$nulls":37},0,367,0,0,0,2,0,-1,0]
[{"$nulls":37},0,367,0,0,0,2,0,-1,0]
[{"$nulls":37},0,367,0,0,0,2,0,-1,0]
[{"$nulls":37},0,367,0,0,0,2,0,-1,0]
[{"$nulls":37},0,367,0,0,0,2,0,-1,0]
[{"$nulls":37},0,367,0,0,0,2,0,-1,0]
[{"$nulls":37},0,367,0,0,0,2,0,-1,0]
[{"$nulls":37},0,367,0,0,0,2,0,-1,0]
[{"$nulls":37},0,367,0,0,0,2,0,-1,0]
[{"$nulls":37},0,367,0,0,0,2,0,-1,0]
[{"$nulls":37},0,367,0,0,0,2,0,-1,0]
[{"$nulls":37},0,367,0,0,0,2,0,-1,0]
[{"$nulls":37},0,367,0,0,0,2,0,-1,0]
[{"$nulls":37},0,367,0,0,0,2,0,-1,0]
[{"$nulls":37},0,367,0,0,0,2,0,-1,0]
[{"$nulls":37},0,367,0,0,0,2,0,-1,0]
[{"$nulls":37},0,367,0,0,0,2,0,-1,0]
[{"$nulls":37},0,367,0,0,0,2,0,-1,0]
[{"$nulls":37},0,367,0,0,0,2,0,-1,0]
[{"$nulls":37},0,367,0,0,0,2,0,-1,0]
[{"$nulls":37},0,367,0,0,0,2,0,-1,0]
[{"$nulls":37},0,367,0,0,0,2,0,-1,0]
[{"$nulls":37},0,367,0,0,0,2,0,-1,0]
[{"$nulls":37},0,367,0,0,0,2,0,-1,0]
[{"$nulls":37},0,367,0,0,0,2,0,-1,0]
[{"$nulls":37},0,367,0,0,0,2,0,-1,0]
[{"$nulls":37},0,367,0,0,0,2,0,-1,0]
[{"$nulls":37},0,367,0,0,0,2,0,-1,0]
{"$rows_empty":24}
[{"$nulls":13},{"$f":"IF(E43=AG40,\"Seite 2 von 2\",\"\")","v":""}]

{"sheet":"Übergangstabellen","index":1,"n_rows":44,"n_cols":5,"rows_kept":44,"merged":[[0,0,0,1],[0,3,0,4],[23,0,23,1],[23,3,23,4]]}
["Regelaltersgrenze § 35 Abs. 2 NBG",null,null,"§ 90 Abs. 2 NBeamtVG Schwerbehind"]
["Geburtstag ab","Anhebung um Monate",null,"GebDat ab","Anhebung um Monate"]
["1940-01-01",0,null,"1940-01-01",0]
["1947-01-01",1,null,"1952-01-01",1]
["1948-01-01",2,null,"1952-02-01",2]
["1949-01-01",3,null,"1952-03-01",3]
["1950-01-01",4,null,"1952-04-01",4]
["1951-01-01",5,null,"1952-05-01",5]
["1952-01-01",6,null,"1952-06-01",6]
["1953-01-01",7,null,"1953-01-01",7]
["1954-01-01",8,null,"1954-01-01",8]
["1955-01-01",9,null,"1955-01-01",9]
["1956-01-01",10,null,"1956-01-01",10]
["1957-01-01",11,null,"1957-01-01",11]
["1958-01-01",12,null,"1958-01-01",12]
["1959-01-01",14,null,"1959-01-01",14]
["1960-01-01",16,null,"1960-01-01",16]
["1961-01-01",18,null,"1961-01-01",18]
["1962-01-01",20,null,"1962-01-01",20]
["1963-01-01",22,null,"1963-01-01",22]
["1964-01-01",24,null,"1964-01-01",24]
[]
[]
["statt RegAltGrz § 90 Abs. 3 NBeamtVG ",null,null,"§ 90 Abs. 4 NBeamtVG Dienstunfähigkeit"]
["Geburtstag ab","Anhebung um Monate",null,"Ruhestand ab","Anhebung um Monate"]
["1940-01-01",0,null,"2008-01-01",0]
["1949-01-01",1,null,"2012-01-02",1]
["1949-02-01",2,null,"2012-02-02",2]
["1949-03-01",3,null,"2012-03-02",3]
[{"$nulls":3},"2012-04-02",4]
[{"$nulls":3},"2012-05-02",5]
[{"$nulls":3},"2012-06-02",6]
[{"$nulls":3},"2013-01-02",7]
[{"$nulls":3},"2014-01-02",8]
[{"$nulls":3},"2015-01-02",9]
[{"$nulls":3},"2016-01-02",10]
[{"$nulls":3},"2017-01-02",11]
[{"$nulls":3},"2018-01-02",12]
[{"$nulls":3},"2019-01-02",14]
[{"$nulls":3},"2020-01-02",16]
[{"$nulls":3},"2021-01-02",18]
[{"$nulls":3},"2022-01-02",20]
[{"$nulls":3},"2023-01-02",22]
[{"$nulls":3},"2024-01-02",24]